BEGIN:VCALENDAR
VERSION:2.0
PRODID:-//Neerby//EN
CALSCALE:GREGORIAN
METHOD:PUBLISH
BEGIN:VEVENT
UID:neerby-event-10083@neerby.io
DTSTAMP:20260422T030548Z
DTSTART:20260912T233000
DTEND:20260912
SUMMARY:Rush
LOCATION:TD Garden\, 100 Legends Way\, Boston\, MA\, 02114
URL:https://neerby.io/event/10083
END:VEVENT
END:VCALENDAR