BEGIN:VCALENDAR
VERSION:2.0
PRODID:-//Neerby//EN
CALSCALE:GREGORIAN
METHOD:PUBLISH
BEGIN:VEVENT
UID:neerby-event-19706@neerby.io
DTSTAMP:20260426T042934Z
DTSTART:20260920T003000
DTEND:20260920
SUMMARY:Billy Idol
LOCATION:Walmart AMP\, 5079 W Sunset Ave\, Rogers\, AR\, 72758
URL:https://neerby.io/event/19706
END:VEVENT
END:VCALENDAR