BEGIN:VCALENDAR
VERSION:2.0
PRODID:-//Neerby//EN
CALSCALE:GREGORIAN
METHOD:PUBLISH
BEGIN:VEVENT
UID:neerby-event-21007@neerby.io
DTSTAMP:20260426T042852Z
DTSTART:20260922T190000
DTEND:20260922
SUMMARY:WEEZER: The Gathering
LOCATION:United Center\, 1901 W Madison\, Chicago\, IL\, 60612
URL:https://neerby.io/event/21007
END:VEVENT
END:VCALENDAR