BEGIN:VCALENDAR
VERSION:2.0
PRODID:-//Neerby//EN
CALSCALE:GREGORIAN
METHOD:PUBLISH
BEGIN:VEVENT
UID:neerby-event-21345@neerby.io
DTSTAMP:20260424T034249Z
DTSTART:20260917T230000
DTEND:20260917
SUMMARY:The Strokes
LOCATION:PNC Music Pavilion\, 707 Pavilion Blvd\, Charlotte\, NC\, 28262
URL:https://neerby.io/event/21345
END:VEVENT
END:VCALENDAR