BEGIN:VCALENDAR
VERSION:2.0
PRODID:-//Neerby//EN
CALSCALE:GREGORIAN
METHOD:PUBLISH
BEGIN:VEVENT
UID:neerby-event-21403@neerby.io
DTSTAMP:20260423T041942Z
DTSTART:20260914T000000
DTEND:20260914
SUMMARY:Shreya Ghoshal
LOCATION:Scotiabank Arena\, 40 Bay St\, Toronto\, ON\, M5J2X2
URL:https://neerby.io/event/21403
END:VEVENT
END:VCALENDAR