BEGIN:VCALENDAR
VERSION:2.0
PRODID:-//Neerby//EN
CALSCALE:GREGORIAN
METHOD:PUBLISH
BEGIN:VEVENT
UID:neerby-event-21554@neerby.io
DTSTAMP:20260423T041942Z
DTSTART:20260913T000000
DTEND:20260913
SUMMARY:Omar Courtz
LOCATION:Kaseya Center\, 601 Biscayne Blvd\, Miami\, FL\, 33132
URL:https://neerby.io/event/21554
END:VEVENT
END:VCALENDAR