BEGIN:VCALENDAR
VERSION:2.0
PRODID:-//Neerby//EN
CALSCALE:GREGORIAN
METHOD:PUBLISH
BEGIN:VEVENT
UID:neerby-event-21565@neerby.io
DTSTAMP:20260420T042655Z
DTSTART:20260910T000000
DTEND:20260910
SUMMARY:Omar Courtz
LOCATION:Barclays Center\, 620 Atlantic Ave\, Brooklyn\, NY\, 11217
URL:https://neerby.io/event/21565
END:VEVENT
END:VCALENDAR