BEGIN:VCALENDAR
VERSION:2.0
PRODID:-//Neerby//EN
CALSCALE:GREGORIAN
METHOD:PUBLISH
BEGIN:VEVENT
UID:neerby-event-21712@neerby.io
DTSTAMP:20260420T042852Z
DTSTART:20260910T180000
DTEND:20260910
SUMMARY:Breaking Benjamin
DESCRIPTION:Event is rain or shine. For the safety\, comfort and experience of all fans\, outside lawn chairs are NOT allowed into the venue. A limited number of lawn chair rentals will be available for advance purchase online or at the venue on the day of the event\, while supplies last. Current bag policy is limited to a small clutch bag no larger than 6" x 9" OR a clear plastic\, vinyl or PVC bag no larger than 12" x 6" x 12". See our Know Before You Go page for more information on our policies.
LOCATION:Darien Lake Amphitheater\, 9993 Alleghany Road\, Darien Center\, NY\, 14040
URL:https://neerby.io/event/21712
END:VEVENT
END:VCALENDAR