BEGIN:VCALENDAR
VERSION:2.0
PRODID:-//Neerby//EN
CALSCALE:GREGORIAN
METHOD:PUBLISH
BEGIN:VEVENT
UID:neerby-event-21713@neerby.io
DTSTAMP:20260422T030707Z
DTSTART:20260912T183000
DTEND:20260912
SUMMARY:$uicideboy$ Present Grey Day Tour 2026 W. Destroy Lonely & More
DESCRIPTION:Event is rain or shine. For the safety\, comfort and experience of all fans\, outside lawn chairs are NOT allowed into the venue. A limited number of lawn chair rentals will be available for advance purchase online or at the venue on the day of the event\, while supplies last. Current bag policy is limited to a small clutch bag no larger than 6" x 9" OR a clear plastic\, vinyl or PVC bag no larger than 12" x 6" x 12". See our Know Before You Go page for more information on our policies. This year for Grey Day Tour 2026\, we ($uicideboy$) have partnered with PLUS1 for something very near and dear to us: mental health. $1 per ticket will be contributed by Live Nation to our PLUS1 Mental Health Fund\, to help those who need support most. We are very excited to do this\, and this is only the beginning of our plans to give back to those that have given us so much. www.plus1.org
LOCATION:Darien Lake Amphitheater\, 9993 Alleghany Road\, Darien Center\, NY\, 14040
URL:https://neerby.io/event/21713
END:VEVENT
END:VCALENDAR