BEGIN:VCALENDAR
VERSION:2.0
PRODID:-//Neerby//EN
CALSCALE:GREGORIAN
METHOD:PUBLISH
BEGIN:VEVENT
UID:neerby-event-21790@neerby.io
DTSTAMP:20260424T034208Z
DTSTART:20260917T190000
DTEND:20260917
SUMMARY:Tim McGraw: Pawn Shop Guitar Tour 2026
DESCRIPTION:For an interpreter\, please call (314) 291-9990 and fill out the form below. All interpreters must be requested 2 weeks prior to event.
LOCATION:Hollywood Casino Amphitheater\, 14141 Riverport Dr\, Maryland Heights\, MO\, 63043
URL:https://neerby.io/event/21790
END:VEVENT
END:VCALENDAR