BEGIN:VCALENDAR
VERSION:2.0
PRODID:-//Neerby//EN
CALSCALE:GREGORIAN
METHOD:PUBLISH
BEGIN:VEVENT
UID:neerby-event-21802@neerby.io
DTSTAMP:20260422T030448Z
DTSTART:20260911T193000
DTEND:20260911
SUMMARY:Black Label Society
DESCRIPTION:Event has been rescheduled to September 11\, 2026. Please hold on to your tickets\, they will be valid for the new date.
LOCATION:The Factory\, 17105 North Outer 40 Road\, Saint Louis\, MO\, 63141
URL:https://neerby.io/event/21802
END:VEVENT
END:VCALENDAR