BEGIN:VCALENDAR
VERSION:2.0
PRODID:-//Neerby//EN
CALSCALE:GREGORIAN
METHOD:PUBLISH
BEGIN:VEVENT
UID:neerby-event-21863@neerby.io
DTSTAMP:20260425T041322Z
DTSTART;VALUE=DATE:20260919
DTEND;VALUE=DATE:20260919
SUMMARY:Kansas State Wildcats Football vs. Tulane Green Wave Football
LOCATION:Bill Snyder Family Football Stadium\, 1800 College Ave\, Manhattan\, KS\, 66502
URL:https://neerby.io/event/21863
END:VEVENT
END:VCALENDAR