BEGIN:VCALENDAR
VERSION:2.0
PRODID:-//Neerby//EN
CALSCALE:GREGORIAN
METHOD:PUBLISH
BEGIN:VEVENT
UID:neerby-event-21906@neerby.io
DTSTAMP:20260422T085831Z
DTSTART:20260502T210000
DTEND:20260502T223000
SUMMARY:Harold Houdini
DESCRIPTION:Witness the magic of the Harold! Two teams will escape the constraints of space and time and attempt daring performances of the Harold form.
LOCATION:St. Louis\, 3960 Chouteau Ave.\, St. Louis\, MO\, 63110\, United States\, 3960 Chouteau Avenue\, St. Louis\, MO\, 63110
URL:https://neerby.io/event/21906
END:VEVENT
END:VCALENDAR