BEGIN:VCALENDAR
VERSION:2.0
PRODID:-//Neerby//EN
CALSCALE:GREGORIAN
METHOD:PUBLISH
BEGIN:VEVENT
UID:neerby-event-22083@neerby.io
DTSTAMP:20260419T233340Z
DTSTART:20260423T103000
DTEND:20260423T111500
SUMMARY:Science Tots: Backyard Explorers
DESCRIPTION:Calling all nature explorers! Join us as we learn about the wonders of the natural world found in our own backyards. Observe\, play\, problem-solve and create art connected to the nature around us. \nPricing\n\nMember Child – $10.00*\nNon-Member Child – $12.00\n\n*Discounted Tickets for Members \nBecome a Member \nAdults do not need a ticket. At least one adult may participate free of charge with every child’s ticket purchased. There must be one adult in attendance for every four children. Due to space limitations\, if classes are full\, it may not be possible to accommodate multiple adults per child. \nReserve Now \nLearn more about Preschool Science Series
LOCATION:Main Building\, Floor 1\, 5050 Oakland Ave\, St. Louis\, MO\, 63110
URL:https://neerby.io/event/22083
END:VEVENT
END:VCALENDAR