BEGIN:VCALENDAR
VERSION:2.0
PRODID:-//Neerby//EN
CALSCALE:GREGORIAN
METHOD:PUBLISH
BEGIN:VEVENT
UID:neerby-event-22086@neerby.io
DTSTAMP:20260419T232345Z
DTSTART:20260419T120000
DTEND:20260419T163000
SUMMARY:Lest We Forget: Film Screening & Panel Discussion
DESCRIPTION:As part of the Lest We Forget exhibition\, on display at The District from April 16 – May 3\, join the Museum for a screening of the documentary Lest We Forget\, which explores the creation of the exhibition. The film follows German-Italian photographer and filmmaker Luigi Toscano on his journey to meet Holocaust survivors and capture their powerful portraits. \nFollowing the screening\, stay for a panel discussion featuring Luigi Toscano\; Dee Dee Simon\, Chair of the Missouri Holocaust Education and Awareness Commission\; and Oskar Jakob\, a local Holocaust survivor whose portrait is included in the exhibition. \nAfter the panel\, a 2:00 pm bus will depart for a guided tour of the exhibition at The District with Luigi Toscano. The bus will return to the Museum at approximately 4:30 pm. \nBus tickets are $22 and include transportation and a boxed lunch. Tickets must be purchased in advance. Space is limited — reserve now to secure your spot. \nBefore Your Visit:\nFree and accessible parking available on site. Accessible seating\, assistive listening devices\, and wheelchairs available upon request.\nClosed captioning will be provided for the film.\nThis event is free to attend (bus tickets sold separately).
LOCATION:Jewish Community Center\, 2 Millstone Campus Drive\, Creve Coeur\, MO\, 63146\, United States\, 2 Millstone Campus Drive\, St. Louis\, MO\, 63146
URL:https://neerby.io/event/22086
END:VEVENT
END:VCALENDAR