BEGIN:VCALENDAR
VERSION:2.0
PRODID:-//Neerby//EN
CALSCALE:GREGORIAN
METHOD:PUBLISH
BEGIN:VEVENT
UID:neerby-event-22113@neerby.io
DTSTAMP:20260420T042532Z
DTSTART:20260420T193000
DTEND:20260420T193000
SUMMARY:Stone Cold & The Jackal
DESCRIPTION:Steve Burton and Bradford Anderson play the roles of Jason Morgan and Damian Spinelli on ABC's soap opera\, "General Hospital." Fans love their unique friendship on screen\, but their real-life dynamic is perhaps even more entertaining. In addition to their long-running podcast and entertaining their legions of fans on social media\, Steve and Bradford are touring all over the country to the delight of GH fans everywhere. Join them for a 75 minute show full of music and comedy followed by a limited VIP photo meet and greet. Bring your own camera\, no autographs
LOCATION:Helium Comedy Club\, 1151 St. Louis Galleria Street\, St. Louis\, MO\, 63117\, United States\, 1151 Saint Louis Galleria Street\, Richmond Heights\, MO\, 63117
URL:https://neerby.io/event/22113
END:VEVENT
END:VCALENDAR