BEGIN:VCALENDAR
VERSION:2.0
PRODID:-//Neerby//EN
CALSCALE:GREGORIAN
METHOD:PUBLISH
BEGIN:VEVENT
UID:neerby-event-22114@neerby.io
DTSTAMP:20260420T043003Z
DTSTART:20260420T200000
DTEND:20260420T230000
SUMMARY:In Color
DESCRIPTION:Close chemistry drives the interplay of In Color. The Nashville band — Holden Clontz\, Matthew Hastings\, Val Hoyt\, and Miles Laderman — lean on a silent bond sealed by years of friendship and a collective passion for pushing boundaries. They bring dimension to alternative pop\, threading unshakable melodies through multi-layered soundscapes.
LOCATION:Blueberry Hill\, 6504 Delmar Blvd.\, St. Louis\, MO\, 63130\, 6504 Delmar Boulevard\, University City\, MO\, 63130
URL:https://neerby.io/event/22114
END:VEVENT
END:VCALENDAR