BEGIN:VCALENDAR
VERSION:2.0
PRODID:-//Neerby//EN
CALSCALE:GREGORIAN
METHOD:PUBLISH
BEGIN:VEVENT
UID:neerby-event-22115@neerby.io
DTSTAMP:20260420T042937Z
DTSTART;VALUE=DATE:20260421
DTEND;VALUE=DATE:20260421
SUMMARY:2026 VEX Robotics World Championship
DESCRIPTION:The VEX Robotics World Championship is the culminating tournament of the VEX Robotics competition season. Winning teams from around the world gather at a host venue to compete over the course of several days. When not competing\, students have opportunities to watch other teams compete\, visit sponsor and vendor booths\, purchase exclusive souvenirs\, and meet other teams from a diverse list of nations. \nVEX Robotics World Championship will take place in St. Louis\, Missouri in April 2026.
LOCATION:America’s Center & The Dome\, 801 Washington Ave.\, St. Louis\, MO\, 63101\, United States\, 701 Convention Plaza\, St. Louis\, MO\, 63101
URL:https://neerby.io/event/22115
END:VEVENT
END:VCALENDAR