BEGIN:VCALENDAR
VERSION:2.0
PRODID:-//Neerby//EN
CALSCALE:GREGORIAN
METHOD:PUBLISH
BEGIN:VEVENT
UID:neerby-event-22119@neerby.io
DTSTAMP:20260422T101552Z
DTSTART:20260423T190000
DTEND:20260423T200000
SUMMARY:Early Movers and Shakers
DESCRIPTION:Join JP Moneybags\, a prominent businessman from the turn of the 20th century\, as he shares his insights on the successful journey of entrepreneurs in various industries. Join us in this program to discover whether their road to success was riddled with difficulties and obstacles\, and how they overcame these challenges to achieve great heights. Learn from the Success Stories of Marshall Field\, William Wrigley\, Charles Walgreen\, Ray Kroc\, and Frederick Maytag. Let them inspire you to never give up on your dreams!\n\nThis program is on tour around the district! Check the April calendarto view the full list of available dates.
LOCATION:427 Spencer Rd\, St. Peters\, MO\, 63376\, US\, 427 Spencer Road\, St. Peters\, MO\, 63376
URL:https://neerby.io/event/22119
END:VEVENT
END:VCALENDAR