BEGIN:VCALENDAR
VERSION:2.0
PRODID:-//Neerby//EN
CALSCALE:GREGORIAN
METHOD:PUBLISH
BEGIN:VEVENT
UID:neerby-event-22120@neerby.io
DTSTAMP:20260422T095512Z
DTSTART:20260515T020000
DTEND:20260515
SUMMARY:Mini Kiss (18+)
LOCATION:Delmar Hall\, 6133 Delmar Blvd\, St. Louis\, MO\, 63112
URL:https://neerby.io/event/22120
END:VEVENT
END:VCALENDAR