BEGIN:VCALENDAR
VERSION:2.0
PRODID:-//Neerby//EN
CALSCALE:GREGORIAN
METHOD:PUBLISH
BEGIN:VEVENT
UID:neerby-event-22141@neerby.io
DTSTAMP:20260420T233153Z
DTSTART:20260518T153000
DTEND:20260518T163000
SUMMARY:Growing Minds: Space\, Sun\, and Moon
DESCRIPTION:Join us for fun activities to learn about space and the sun and moon!\n\nThis program will be held on May 4 at the WingHaven® Branch and May 18 at the Cliff View Branch\, please only register for one session.
LOCATION:10 Cliff View Dr\, Wentzville\, MO\, 63385\, US\, 10 Cliff View Drive\, Wentzville\, MO\, 63385
URL:https://neerby.io/event/22141
END:VEVENT
END:VCALENDAR