BEGIN:VCALENDAR
VERSION:2.0
PRODID:-//Neerby//EN
CALSCALE:GREGORIAN
METHOD:PUBLISH
BEGIN:VEVENT
UID:neerby-event-22142@neerby.io
DTSTAMP:20260420T233455Z
DTSTART:20260601T230000
DTEND:20260601T003000
SUMMARY:Craft & Culture: "My Neighbor Totoro" Craft Night
DESCRIPTION:Manga and Anime fans are invited to come make Soot Sprites\, or Susuwatari ("wandering soot"). They are small\, pitch-black\, fuzzy spirits featured in Studio Ghibli's My Neighbor Totoro and Spirited Away. These golf-ball-sized creatures inhabit abandoned buildings and boiler rooms\, often carrying coal or star-shaped sugar candy (konpeito) with long\, thin limbs. They are known for being shy\, industrious\, and vanishing when not given work.
LOCATION:7435 Village Center Dr\, O'Fallon\, MO\, 63368\, US\, 7435 Village Center Drive\, O'Fallon\, MO\, 63368
URL:https://neerby.io/event/22142
END:VEVENT
END:VCALENDAR