BEGIN:VCALENDAR
VERSION:2.0
PRODID:-//Neerby//EN
CALSCALE:GREGORIAN
METHOD:PUBLISH
BEGIN:VEVENT
UID:neerby-event-22143@neerby.io
DTSTAMP:20260420T232813Z
DTSTART:20260603T230000
DTEND:20260603T000000
SUMMARY:DIY Crafts: Dinosaur Terrariums
DESCRIPTION:Create your very own decorative dinosaur terrarium in a mason jar!
LOCATION:7435 Village Center Dr\, O'Fallon\, MO\, 63368\, US\, 7435 Village Center Drive\, O'Fallon\, MO\, 63368
URL:https://neerby.io/event/22143
END:VEVENT
END:VCALENDAR