BEGIN:VCALENDAR
VERSION:2.0
PRODID:-//Neerby//EN
CALSCALE:GREGORIAN
METHOD:PUBLISH
BEGIN:VEVENT
UID:neerby-event-22144@neerby.io
DTSTAMP:20260420T234703Z
DTSTART:20260604T180000
DTEND:20260604T190000
SUMMARY:Book Discussion: "The Year of Living Constitutionally" by A.J. Jacobs
DESCRIPTION:"In The Year of Living Constitutionally \, A.J. Jacobs tries to get inside the minds of the Founding Fathers by living as closely as possible to the original meaning of the Constitution. He exercises his Second Amendment rights by marching around Manhattan with a colonial musket. He asserts his right to free speech by writing his opinions on parchment and handing them out in Times Square. He turns his home into a traditional 1790s household by lighting candles\, boiling mutton\, and—because women were not allowed to sign contracts—taking over the household finances from his much more business-savvy wife.\n\nThe book blends unforgettable adventures—traveling to the Capitol to personally deliver a list of grievances to Congress\, consenting to quarter soldiers in his apartment\, and battling Redcoats as part of a Revolutionary War reenactment group--with dozens of interviews from constitutional experts from both sides of the debate. Much like he did with the Bible in The Year of Living Biblically \, Jacobs provides a crash course on our Constitution as he experiences the benefits and perils of living like it’s the 1790s. In the process\, he showcases the potentially dangerous effects originalism has on our democracy as well as the progress we’ve made since the time of its writing in 1789\, when\, for instance\, life expectancy was forty-five years and married women couldn’t own property."
LOCATION:10 Cliff View Dr\, Wentzville\, MO\, 63385\, US\, 10 Cliff View Drive\, Wentzville\, MO\, 63385
URL:https://neerby.io/event/22144
END:VEVENT
END:VCALENDAR