BEGIN:VCALENDAR
VERSION:2.0
PRODID:-//Neerby//EN
CALSCALE:GREGORIAN
METHOD:PUBLISH
BEGIN:VEVENT
UID:neerby-event-22147@neerby.io
DTSTAMP:20260420T233551Z
DTSTART:20260609T190000
DTEND:20260609T200000
SUMMARY:Homeschool Explorers: Diamond Painting- Patriotic Keychain
DESCRIPTION:Come meet with friends to explore\, learn\, make art and more! This month we will be creating a beautiful diamond painted 4th of July Keychain! This class is recommended for Grades 1-6.
LOCATION:10 Cliff View Dr\, Wentzville\, MO\, 63385\, US\, 10 Cliff View Drive\, Wentzville\, MO\, 63385
URL:https://neerby.io/event/22147
END:VEVENT
END:VCALENDAR