BEGIN:VCALENDAR
VERSION:2.0
PRODID:-//Neerby//EN
CALSCALE:GREGORIAN
METHOD:PUBLISH
BEGIN:VEVENT
UID:neerby-event-22148@neerby.io
DTSTAMP:20260420T232443Z
DTSTART:20260611T230000
DTEND:20260611T000000
SUMMARY:Teens Read: Gateway Readers Nominees
DESCRIPTION:A book club just for teens!\n\nRead the book\, then come to the Library to discuss with other teens and enjoy snacks and crafts.\n\nWe're reading all of the Gateway Readers Award Nominees and we will vote for your favorite title in March.\n\nThis month we're discussing:\n\n"Dungeons & Drama" by Kristy Boyce\n\nWhen it comes to romance\, sometimes it doesn't hurt to play games. A fun YA romcom full of fake dating hijinks!\n\nMusical lover Riley has big aspirations to become a director on Broadway. Crucial to this plan is to bring back her high school’s spring musical\, but when Riley takes her mom’s car without permission\, she's grounded and stuck with the worst punishment: spending her after-school hours working at her dad’s game shop.\n\nRiley can't waste her time working when she has a musical to save\, so she convinces Nathan - a nerdy teen employee - to cover her shifts and\, in exchange\, she’ll flirt with him to make his gamer-girl crush jealous.\n\nBut Riley didn’t realize that meant joining Nathan's Dungeons & Dragons game…or that role playing would be so fun. Soon\, Riley starts to think that flirting with Nathan doesn't require as much acting as she would've thought...\n\n- Description provided by author's website.`\n\nPrefer reading it as an eBook or eAudiobook? Search for it HERE.\n\nThis program is recommended for grades 9-12.
LOCATION:7435 Village Center Dr\, O'Fallon\, MO\, 63368\, US\, 7435 Village Center Drive\, O'Fallon\, MO\, 63368
URL:https://neerby.io/event/22148
END:VEVENT
END:VCALENDAR