BEGIN:VCALENDAR
VERSION:2.0
PRODID:-//Neerby//EN
CALSCALE:GREGORIAN
METHOD:PUBLISH
BEGIN:VEVENT
UID:neerby-event-22149@neerby.io
DTSTAMP:20260420T233455Z
DTSTART:20260613T153000
DTEND:20260613T163000
SUMMARY:Let's Create: Wooden Dinosaur Craft
DESCRIPTION:Come create your very own wooden dinosaur with acrylic paint. Dress to be messy. This program is recommended for grades K-3.
LOCATION:10 Cliff View Dr\, Wentzville\, MO\, 63385\, US\, 10 Cliff View Drive\, Wentzville\, MO\, 63385
URL:https://neerby.io/event/22149
END:VEVENT
END:VCALENDAR