BEGIN:VCALENDAR
VERSION:2.0
PRODID:-//Neerby//EN
CALSCALE:GREGORIAN
METHOD:PUBLISH
BEGIN:VEVENT
UID:neerby-event-22150@neerby.io
DTSTAMP:20260420T233551Z
DTSTART:20260613T190000
DTEND:20260613T203000
SUMMARY:Watercolor 101: Summer Fruits
DESCRIPTION:Color your world with watercolors! Join us in this comprehensive beginner’s class as we navigate all the basics. We will put our new skills into practice by painting simple summer fruits.
LOCATION:7435 Village Center Dr\, O'Fallon\, MO\, 63368\, US\, 7435 Village Center Drive\, O'Fallon\, MO\, 63368
URL:https://neerby.io/event/22150
END:VEVENT
END:VCALENDAR