BEGIN:VCALENDAR
VERSION:2.0
PRODID:-//Neerby//EN
CALSCALE:GREGORIAN
METHOD:PUBLISH
BEGIN:VEVENT
UID:neerby-event-22151@neerby.io
DTSTAMP:20260420T232813Z
DTSTART:20260615T190000
DTEND:20260615T203000
SUMMARY:Let's Create: Diamond Painting Patriotic Keychains
LOCATION:7435 Village Center Dr\, O'Fallon\, MO\, 63368\, US\, 7435 Village Center Drive\, O'Fallon\, MO\, 63368
URL:https://neerby.io/event/22151
END:VEVENT
END:VCALENDAR