BEGIN:VCALENDAR
VERSION:2.0
PRODID:-//Neerby//EN
CALSCALE:GREGORIAN
METHOD:PUBLISH
BEGIN:VEVENT
UID:neerby-event-22152@neerby.io
DTSTAMP:20260420T234324Z
DTSTART:20260620T153000
DTEND:20260620T170000
SUMMARY:Diamond Painting-Birthday Cards
DESCRIPTION:This month we will get creative and embellish birthday cards from an assortment of cards! Join us as we use leftover dazzling Diamond Dotz and a needle tip glue bottle for the application. They will make an adorable keepsake card for any upcoming birthday you may have on your calendar.
LOCATION:10 Cliff View Dr\, Wentzville\, MO\, 63385\, US\, 10 Cliff View Drive\, Wentzville\, MO\, 63385
URL:https://neerby.io/event/22152
END:VEVENT
END:VCALENDAR