BEGIN:VCALENDAR
VERSION:2.0
PRODID:-//Neerby//EN
CALSCALE:GREGORIAN
METHOD:PUBLISH
BEGIN:VEVENT
UID:neerby-event-22154@neerby.io
DTSTAMP:20260420T232443Z
DTSTART:20260709T220000
DTEND:20260709T233000
SUMMARY:Beaded Bugs
DESCRIPTION:"Unearth" some delightful beaded bugs by creating a beautiful entomological display. You can make your bugs cute or creepy out of assorted beads and findings\, sew them onto a fabric background\, and then embroider on legs and antennae.
LOCATION:198 Jackson St\, Augusta\, MO\, 63332\, US\, 198 Jackson Street\, Augusta\, MO\, 63332
URL:https://neerby.io/event/22154
END:VEVENT
END:VCALENDAR