BEGIN:VCALENDAR
VERSION:2.0
PRODID:-//Neerby//EN
CALSCALE:GREGORIAN
METHOD:PUBLISH
BEGIN:VEVENT
UID:neerby-event-22156@neerby.io
DTSTAMP:20260420T233338Z
DTSTART:20260713T223000
DTEND:20260713T233000
SUMMARY:Book Discussion: "Call Your Daughter Home" by Deb Spera
DESCRIPTION:It's 1924 South Carolina and the region is still recovering from the infamous boll weevil infestation that devastated the land and the economy. Gertrude\, a mother of four\, must make an unconscionable decision to save her daughters from starvation or die at the hands of an abusive husband. Retta is navigating a harsh world as a first-generation freed slave\, still employed by the Coles\, influential plantation proprietors who once owned her family. Annie is the matriarch of the Coles family and must come to terms with the terrible truth that has ripped her family apart. These three women seemingly have nothing in common\, yet as they unite to stand up to the terrible injustices that have long plagued the small town\, they find strength in the bond that ties women together.\n\nSearch for the ebook and/or eaudiobook on stchlibrary.org
LOCATION:10 Fiddlecreek Ridge Rd\, Wentzville\, MO\, 63385\, US\, 10 Fiddlecreek Ridge Road\, Wentzville\, MO\, 63385
URL:https://neerby.io/event/22156
END:VEVENT
END:VCALENDAR