BEGIN:VCALENDAR
VERSION:2.0
PRODID:-//Neerby//EN
CALSCALE:GREGORIAN
METHOD:PUBLISH
BEGIN:VEVENT
UID:neerby-event-22161@neerby.io
DTSTAMP:20260420T232953Z
DTSTART:20260829T010000
DTEND:20260829
SUMMARY:Chayanne
LOCATION:Fiserv Forum\, 1111 Vel R. Phillips Ave\, Milwaukee\, WI\, 53203
URL:https://neerby.io/event/22161
END:VEVENT
END:VCALENDAR