BEGIN:VCALENDAR
VERSION:2.0
PRODID:-//Neerby//EN
CALSCALE:GREGORIAN
METHOD:PUBLISH
BEGIN:VEVENT
UID:neerby-event-22169@neerby.io
DTSTAMP:20260421T032935Z
DTSTART:20260507T230000
DTEND:20260507T000000
SUMMARY:Secrets of Excellent Job Applications
DESCRIPTION:Learn how to effectively complete online job applications. Attendees can bring a job application for a five minute review.\n\nPresented by Frank Alaniz
LOCATION:1200 Corporate Pkwy\, Wentzville\, MO\, 63385\, US\, 1200 Corporate Parkway\, Wentzville\, MO\, 63385
URL:https://neerby.io/event/22169
END:VEVENT
END:VCALENDAR