BEGIN:VCALENDAR
VERSION:2.0
PRODID:-//Neerby//EN
CALSCALE:GREGORIAN
METHOD:PUBLISH
BEGIN:VEVENT
UID:neerby-event-22171@neerby.io
DTSTAMP:20260421T031645Z
DTSTART:20260702T190000
DTEND:20260702T200000
SUMMARY:Book Discussion: "Broken Country" by Clare Leslie Hall
DESCRIPTION:Broken Country is a Reese's Book Club pick\, a New York Times bestseller\, and a poignant\, suspenseful novel about love\, loss\, and secrets set in the English countryside.\n\nThis event also occurs on Wednesday\, July 1 at 2:00PM. Please register for only one event.\n\nFor additional copies\, ebooks and/or eaudiobooks please visit the library website.
LOCATION:2760 McClay Rd\, St Charles\, MO\, 63303\, US\, 2760 McClay Road\, Saint Charles\, MO\, 63303
URL:https://neerby.io/event/22171
END:VEVENT
END:VCALENDAR