BEGIN:VCALENDAR
VERSION:2.0
PRODID:-//Neerby//EN
CALSCALE:GREGORIAN
METHOD:PUBLISH
BEGIN:VEVENT
UID:neerby-event-22172@neerby.io
DTSTAMP:20260421T031650Z
DTSTART:20260702T193000
DTEND:20260702T203000
SUMMARY:Let's Party: Minions
DESCRIPTION:Celebrate the release of the Minions & Monsters movie with a party packed full of games\, crafts\, and Minions-themed fun!
LOCATION:2750 State Hwy K\, O'Fallon\, MO\, 63368\, US\, 2750 State Highway K\, O'Fallon\, MO\, 63368
URL:https://neerby.io/event/22172
END:VEVENT
END:VCALENDAR