BEGIN:VCALENDAR
VERSION:2.0
PRODID:-//Neerby//EN
CALSCALE:GREGORIAN
METHOD:PUBLISH
BEGIN:VEVENT
UID:neerby-event-22175@neerby.io
DTSTAMP:20260421T031834Z
DTSTART:20260703T153000
DTEND:20260703T160000
SUMMARY:Dinosaur Stomp
DESCRIPTION:Stomp\, sing\, and roar along at Dinosaur Stomp! Bring the whole family for a lively program packed with songs\, instruments\, and dancing—all celebrating our Summer Challenge dinosaur theme.\n\nGet ready to move\, make music\, and have a dino-sized adventure together!
LOCATION:2750 State Hwy K\, O'Fallon\, MO\, 63368\, US\, 2750 State Highway K\, O'Fallon\, MO\, 63368
URL:https://neerby.io/event/22175
END:VEVENT
END:VCALENDAR