BEGIN:VCALENDAR
VERSION:2.0
PRODID:-//Neerby//EN
CALSCALE:GREGORIAN
METHOD:PUBLISH
BEGIN:VEVENT
UID:neerby-event-22176@neerby.io
DTSTAMP:20260421T032241Z
DTSTART:20260706T230000
DTEND:20260706T000000
SUMMARY:Dinosaur Trivia
DESCRIPTION:Test your dinosaur knowledge at the library with trivia!
LOCATION:2750 State Hwy K\, O'Fallon\, MO\, 63368\, US\, 2750 State Highway K\, O'Fallon\, MO\, 63368
URL:https://neerby.io/event/22176
END:VEVENT
END:VCALENDAR