BEGIN:VCALENDAR
VERSION:2.0
PRODID:-//Neerby//EN
CALSCALE:GREGORIAN
METHOD:PUBLISH
BEGIN:VEVENT
UID:neerby-event-22177@neerby.io
DTSTAMP:20260421T031624Z
DTSTART:20260708T230000
DTEND:20260708T234500
SUMMARY:Pajama Story Time
LOCATION:2750 State Hwy K\, O'Fallon\, MO\, 63368\, US\, 2750 State Highway K\, O'Fallon\, MO\, 63368
URL:https://neerby.io/event/22177
END:VEVENT
END:VCALENDAR