BEGIN:VCALENDAR
VERSION:2.0
PRODID:-//Neerby//EN
CALSCALE:GREGORIAN
METHOD:PUBLISH
BEGIN:VEVENT
UID:neerby-event-22178@neerby.io
DTSTAMP:20260421T031634Z
DTSTART:20260710T190000
DTEND:20260710T200000
SUMMARY:Family Fun: Globe Trotters
DESCRIPTION:Explore the culture of Canada with hands-on activities\, games\, and crafts! We will learn fun facts\, how to speak some unique words and phrases\, and even try a local snack.\n\nCollect a sticker from each country we explore\, and add it to your Globe Trotters passport!
LOCATION:2750 State Hwy K\, O'Fallon\, MO\, 63368\, US\, 2750 State Highway K\, O'Fallon\, MO\, 63368
URL:https://neerby.io/event/22178
END:VEVENT
END:VCALENDAR