BEGIN:VCALENDAR
VERSION:2.0
PRODID:-//Neerby//EN
CALSCALE:GREGORIAN
METHOD:PUBLISH
BEGIN:VEVENT
UID:neerby-event-22184@neerby.io
DTSTAMP:20260421T031527Z
DTSTART:20260720T150000
DTEND:20260720T160000
SUMMARY:Growing Artists: Dinosaurs
LOCATION:2760 McClay Rd\, St Charles\, MO\, 63303\, US\, 2760 McClay Road\, Saint Charles\, MO\, 63303
URL:https://neerby.io/event/22184
END:VEVENT
END:VCALENDAR