BEGIN:VCALENDAR
VERSION:2.0
PRODID:-//Neerby//EN
CALSCALE:GREGORIAN
METHOD:PUBLISH
BEGIN:VEVENT
UID:neerby-event-22185@neerby.io
DTSTAMP:20260421T032926Z
DTSTART:20260720T150000
DTEND:20260720T160000
SUMMARY:Navigating Medicare with Confidence in partnership with SSM Health
DESCRIPTION:***WAITING ON PRESENTER***\n\nPlease click HERE to register.\n\nPresented in partnership with SSM Health\, this free educational seminar is designed to help individuals approaching Medicare eligibility better understand their options. Tyler Shirk\, a Licensed Medicare advisor\, will cover the basics of Medicare Parts A\, B\, C\, and D\, enrollment timelines\, and how to avoid common pitfalls.\n\nWhether you're retiring soon or helping a loved one navigate their coverage\, this session will provide clear\, unbiased information to help you make confident decisions.\n\nAbout the presenter:\n\nTyler Shirk\, a Missouri native with over a decade of experience\, has helped thousands of individuals in the Midwest make confident decisions about their Medicare coverage. Known for his personalized service and expert guidance\, Tyler makes sure every client feels informed\, supported\, and secure in their choices.\n\nWhen he's not working\, you'll find Tyler golfing\, spending time with family\, attending church\, cheering on the Kansas City Chiefs\, or behind a grill. Whether you're looking for Medicare help or a great travel tip\, Tyler’s your go-to guy.
LOCATION:427 Spencer Rd\, St. Peters\, MO\, 63376\, US\, 427 Spencer Road\, St. Peters\, MO\, 63376
URL:https://neerby.io/event/22185
END:VEVENT
END:VCALENDAR