BEGIN:VCALENDAR
VERSION:2.0
PRODID:-//Neerby//EN
CALSCALE:GREGORIAN
METHOD:PUBLISH
BEGIN:VEVENT
UID:neerby-event-22188@neerby.io
DTSTAMP:20260421T032347Z
DTSTART:20260720T190000
DTEND:20260720T200000
SUMMARY:Reptiles and Amphibians of Missouri
DESCRIPTION:An educational\, up-close experience for the whole family! Enjoy facts and stories about Missouri’s amphibians and reptiles while meeting the animals themselves. They will also go over some of the similarities and differences between modern-day animals and the dinosaurs of the past.\n\nThis program is on tour around the district! Check the July calendar to view the full list of available dates.\n\nThis program is supported by the Institute of Museum and Library Services under the provisions of the Library Services and Technology Act\, a division of the Office of the Secretary of State.
LOCATION:1300 North Main St\, O'Fallon\, MO\, 63366\, US\, 1300 North Main Street\, O'Fallon\, MO\, 63366
URL:https://neerby.io/event/22188
END:VEVENT
END:VCALENDAR