BEGIN:VCALENDAR
VERSION:2.0
PRODID:-//Neerby//EN
CALSCALE:GREGORIAN
METHOD:PUBLISH
BEGIN:VEVENT
UID:neerby-event-22189@neerby.io
DTSTAMP:20260421T031645Z
DTSTART:20260720T200000
DTEND:20260720T213000
SUMMARY:Stitching Card: Dinosaur
DESCRIPTION:Learn how to make a dinosaur stitching card using needle and thread on cardstock. No sewing experience needed!
LOCATION:2750 State Hwy K\, O'Fallon\, MO\, 63368\, US\, 2750 State Highway K\, O'Fallon\, MO\, 63368
URL:https://neerby.io/event/22189
END:VEVENT
END:VCALENDAR