BEGIN:VCALENDAR
VERSION:2.0
PRODID:-//Neerby//EN
CALSCALE:GREGORIAN
METHOD:PUBLISH
BEGIN:VEVENT
UID:neerby-event-22190@neerby.io
DTSTAMP:20260421T031527Z
DTSTART:20260720T213000
DTEND:20260720T223000
SUMMARY:LEGO Builders
LOCATION:1200 Corporate Pkwy\, Wentzville\, MO\, 63385\, US\, 1200 Corporate Parkway\, Wentzville\, MO\, 63385
URL:https://neerby.io/event/22190
END:VEVENT
END:VCALENDAR