BEGIN:VCALENDAR
VERSION:2.0
PRODID:-//Neerby//EN
CALSCALE:GREGORIAN
METHOD:PUBLISH
BEGIN:VEVENT
UID:neerby-event-22198@neerby.io
DTSTAMP:20260421T032340Z
DTSTART:20260421T103000
DTEND:20260421T120000
SUMMARY:Coffee Concert Series: Erin Bode at the KPAC
DESCRIPTION:Join the Kirkwood Performing Arts Center for an intimate morning that balances world-class artistry with a relaxed neighborhood vibe. On April 21st\, the KPAC hosts musician Erin Bode\, an artist whose voice has been praised for its crystalline purity and silk-like delivery. This Coffee Concert is designed to let you hit the pause button on your Tuesday and settle into a repertoire that feels both fresh and familiar. \nThe Coffee Concert Series at the KPAC isn't just about the music\; it's about the shared experience in a beautiful\, light-filled space. Come for the high-caliber musicianship and stay for the connection of a performance that feels like a breath of fresh air.
LOCATION:Kirkwood Performing Arts Center\, 210 E. Monroe Ave.\, Kirkwood\, 63122\, United States\, 210 East Monroe Avenue\, Kirkwood\, MO\, 63122
URL:https://neerby.io/event/22198
END:VEVENT
END:VCALENDAR