BEGIN:VCALENDAR
VERSION:2.0
PRODID:-//Neerby//EN
CALSCALE:GREGORIAN
METHOD:PUBLISH
BEGIN:VEVENT
UID:neerby-event-22201@neerby.io
DTSTAMP:20260425T041322Z
DTSTART:20260918T000000
DTEND:20260918
SUMMARY:Emarosa
LOCATION:Off Broadway\, St. Louis\, MO\, 63118
URL:https://neerby.io/event/22201
END:VEVENT
END:VCALENDAR