BEGIN:VCALENDAR
VERSION:2.0
PRODID:-//Neerby//EN
CALSCALE:GREGORIAN
METHOD:PUBLISH
BEGIN:VEVENT
UID:neerby-event-22208@neerby.io
DTSTAMP:20260421T095049Z
DTSTART:20260421T130000
DTEND:20260421T150000
SUMMARY:Spring History Walk
DESCRIPTION:Join Bellefontaine Cemetery and Arboretum for a seasonal walk! During the months of March\, April\, and May\, Bellefontaine Cemetery and Arboretum offers this two-hour guided experience led by one of the Master Guides. \nThe guides will share highlights of the Cemetery grounds\, its unique horticulture\, and the stories of the many intriguing figures who call Bellefontaine their “last address.” As the landscape changes\, these spring tours place a special emphasis on our horticulture as various areas of the Arboretum reach different levels of bloom. \nTour Details: \n\nTime: 1:00 p.m. to 3:00 p.m.\nDistance: Approximately 2 miles\nTerrain: Moderate\nAttire: Please wear appropriate walking shoes and clothing.\nArrival: Please arrive 15–20 minutes early for a prompt departure.\n\nRegistration is limited and reservations are required. Sign up now!
LOCATION:Bellefontaine Cemetery and Arboretum\, 4947 W. Florissant Ave.\, St. Louis\, MO\, 63115\, United States\, 4947 West Florissant Avenue\, St. Louis\, MO\, 63115
URL:https://neerby.io/event/22208
END:VEVENT
END:VCALENDAR