BEGIN:VCALENDAR
VERSION:2.0
PRODID:-//Neerby//EN
CALSCALE:GREGORIAN
METHOD:PUBLISH
BEGIN:VEVENT
UID:neerby-event-22212@neerby.io
DTSTAMP:20260421T232313Z
DTSTART:20260606T010000
DTEND:20260606
SUMMARY:Mike Sherm
LOCATION:Delmar Hall\, 6133 Delmar Blvd\, St. Louis\, MO\, 63112
URL:https://neerby.io/event/22212
END:VEVENT
END:VCALENDAR