BEGIN:VCALENDAR
VERSION:2.0
PRODID:-//Neerby//EN
CALSCALE:GREGORIAN
METHOD:PUBLISH
BEGIN:VEVENT
UID:neerby-event-22214@neerby.io
DTSTAMP:20260421T232625Z
DTSTART:20260421T193000
DTEND:20260421T193000
SUMMARY:Sarper Guven
DESCRIPTION:Born and raised in Turkey\, now lost in the madness of America. Sarper brings his sharp\, hilarious takes on marriage\, jealousy\, and the wild cultural differences between Turkish and American life. With fresh observations about living in the U.S.\, he’s here to prove that laughter is universal.
LOCATION:Helium Comedy Club\, 1151 St. Louis Galleria Street\, St. Louis\, MO\, 63117\, United States\, 1151 Saint Louis Galleria Street\, Richmond Heights\, MO\, 63117
URL:https://neerby.io/event/22214
END:VEVENT
END:VCALENDAR